Workbook

Sheet Dashboard
A1: Dashboard
A2: Month (type the first day of the month): | B2: 46327
A3: Change B2 on the first of each month. Every total below follows it.
A5: Category | B5: Limit | C5: Spent | D5: Left | E5: Status
A6: =IF(Setup!A5="","",Setup!A5) | B6: =IF(A6="","",Setup!B5) | C6: =IF(A6="","",SUMIFS(Log!$D$4:$D$503,Log!$B$4:$B$503,A6,Log!$A$4:$A$503,">="&$B$2,Log!$A$4:$A$503,"<"&EDATE($B$2,1))) | D6: =IF(A6="","",B6-C6) | E6: =IF(A6="","",IF(C6>B6,"OVER","OK"))
A7: =IF(Setup!A6="","",Setup!A6) | B7: =IF(A7="","",Setup!B6) | C7: =IF(A7="","",SUMIFS(Log!$D$4:$D$503,Log!$B$4:$B$503,A7,Log!$A$4:$A$503,">="&$B$2,Log!$A$4:$A$503,"<"&EDATE($B$2,1))) | D7: =IF(A7="","",B7-C7) | E7: =IF(A7="","",IF(C7>B7,"OVER","OK"))
A8: =IF(Setup!A7="","",Setup!A7) | B8: =IF(A8="","",Setup!B7) | C8: =IF(A8="","",SUMIFS(Log!$D$4:$D$503,Log!$B$4:$B$503,A8,Log!$A$4:$A$503,">="&$B$2,Log!$A$4:$A$503,"<"&EDATE($B$2,1))) | D8: =IF(A8="","",B8-C8) | E8: =IF(A8="","",IF(C8>B8,"OVER","OK"))
A9: =IF(Setup!A8="","",Setup!A8) | B9: =IF(A9="","",Setup!B8) | C9: =IF(A9="","",SUMIFS(Log!$D$4:$D$503,Log!$B$4:$B$503,A9,Log!$A$4:$A$503,">="&$B$2,Log!$A$4:$A$503,"<"&EDATE($B$2,1))) | D9: =IF(A9="","",B9-C9) | E9: =IF(A9="","",IF(C9>B9,"OVER","OK"))
A10: =IF(Setup!A9="","",Setup!A9) | B10: =IF(A10="","",Setup!B9) | C10: =IF(A10="","",SUMIFS(Log!$D$4:$D$503,Log!$B$4:$B$503,A10,Log!$A$4:$A$503,">="&$B$2,Log!$A$4:$A$503,"<"&EDATE($B$2,1))) | D10: =IF(A10="","",B10-C10) | E10: =IF(A10="","",IF(C10>B10,"OVER","OK"))
A11: =IF(Setup!A10="","",Setup!A10) | B11: =IF(A11="","",Setup!B10) | C11: =IF(A11="","",SUMIFS(Log!$D$4:$D$503,Log!$B$4:$B$503,A11,Log!$A$4:$A$503,">="&$B$2,Log!$A$4:$A$503,"<"&EDATE($B$2,1))) | D11: =IF(A11="","",B11-C11) | E11: =IF(A11="","",IF(C11>B11,"OVER","OK"))
A12: =IF(Setup!A11="","",Setup!A11) | B12: =IF(A12="","",Setup!B11) | C12: =IF(A12="","",SUMIFS(Log!$D$4:$D$503,Log!$B$4:$B$503,A12,Log!$A$4:$A$503,">="&$B$2,Log!$A$4:$A$503,"<"&EDATE($B$2,1))) | D12: =IF(A12="","",B12-C12) | E12: =IF(A12="","",IF(C12>B12,"OVER","OK"))
A13: =IF(Setup!A12="","",Setup!A12) | B13: =IF(A13="","",Setup!B12) | C13: =IF(A13="","",SUMIFS(Log!$D$4:$D$503,Log!$B$4:$B$503,A13,Log!$A$4:$A$503,">="&$B$2,Log!$A$4:$A$503,"<"&EDATE($B$2,1))) | D13: =IF(A13="","",B13-C13) | E13: =IF(A13="","",IF(C13>B13,"OVER","OK"))
A14: =IF(Setup!A13="","",Setup!A13) | B14: =IF(A14="","",Setup!B13) | C14: =IF(A14="","",SUMIFS(Log!$D$4:$D$503,Log!$B$4:$B$503,A14,Log!$A$4:$A$503,">="&$B$2,Log!$A$4:$A$503,"<"&EDATE($B$2,1))) | D14: =IF(A14="","",B14-C14) | E14: =IF(A14="","",IF(C14>B14,"OVER","OK"))
A15: =IF(Setup!A14="","",Setup!A14) | B15: =IF(A15="","",Setup!B14) | C15: =IF(A15="","",SUMIFS(Log!$D$4:$D$503,Log!$B$4:$B$503,A15,Log!$A$4:$A$503,">="&$B$2,Log!$A$4:$A$503,"<"&EDATE($B$2,1))) | D15: =IF(A15="","",B15-C15) | E15: =IF(A15="","",IF(C15>B15,"OVER","OK"))
A16: =IF(Setup!A15="","",Setup!A15) | B16: =IF(A16="","",Setup!B15) | C16: =IF(A16="","",SUMIFS(Log!$D$4:$D$503,Log!$B$4:$B$503,A16,Log!$A$4:$A$503,">="&$B$2,Log!$A$4:$A$503,"<"&EDATE($B$2,1))) | D16: =IF(A16="","",B16-C16) | E16: =IF(A16="","",IF(C16>B16,"OVER","OK"))
A17: =IF(Setup!A16="","",Setup!A16) | B17: =IF(A17="","",Setup!B16) | C17: =IF(A17="","",SUMIFS(Log!$D$4:$D$503,Log!$B$4:$B$503,A17,Log!$A$4:$A$503,">="&$B$2,Log!$A$4:$A$503,"<"&EDATE($B$2,1))) | D17: =IF(A17="","",B17-C17) | E17: =IF(A17="","",IF(C17>B17,"OVER","OK"))
A19: Income | B19: =Setup!E5
A20: Total spent | B20: =SUM(C6:C17)
A21: Left this month | B21: =B19-B20
A22: Total planned (limits) | B22: =SUM(B6:B17)

Sheet Setup
A1: Setup: your categories and monthly limits
A2: Edit the shaded cells. Keep to 8 to 12 categories. Everything else updates itself.
A4: Category | B4: Monthly limit | C4: Type | E4: Monthly income (take-home)
A5: Rent | B5: 1600 | C5: Fixed | E5: 3200
A6: Groceries | B6: 550 | C6: Variable
A7: Eating out | B7: 180 | C7: Variable
A8: Transport | B8: 120 | C8: Variable
A9: Subscriptions | B9: 45 | C9: Fixed
A10: Health | B10: 100 | C10: Variable
A11: Gifts | B11: 75 | C11: Variable
A12: Savings goal | B12: 400 | C12: Fixed

Sheet Log
A1: Log: one row per purchase
A3: Date | B3: Category | C3: Description | D3: Amount
A4: 46327 | B4: Rent | C4: November rent | D4: 1600
A5: 46329 | B5: Groceries | C5: Weekly shop | D5: 112.4
A6: 46332 | B6: Eating out | C6: Pizza night | D6: 38.75
A7: 46335 | B7: Transport | C7: Gas | D7: 41.2
A8: 46338 | B8: Groceries | C8: Weekly shop | D8: 98.1
